BEGIN:VCALENDAR
VERSION:2.0
X-WR-TIMEZONE:Europe/Paris
PRODID:-//Audencia//NONSGML v1.0//EN
CALSCALE:GREGORIAN
BEGIN:VEVENT
SUMMARY:Webinar: Vantage points – the simple equation for leadership
DTSTART:20210914T130000
DTEND:20210914T140000
UID:1023
DTSTAMP:20260425T210117
LOCATION:
DESCRIPTION:AMBA webinar "Vantage points – the simple equation for leadership"\n\nDate: Tuesday 14 September 2021\nTime: 13:00-14:00 Paris time\n\nIn an increasingly complex and inter-connected world, the role of leadership has changed and is changing. How can leaders effectively prioritise and focus their attention on the most important and most impactful aspects of their role? What does it take to lead successfully with authenticity and results orientation when the goalposts keep moving and the pace is relentless?\n\nIn this session we will explore the simple equation that can help leaders to lead proactively and with intention and enable both themselves and those around them to thrive. Based on her book Vantage Points – how to create a culture where employees thrive Paula Leach will provide an overview for anyone interested in next level 21st century leadership.\nAbout the speaker\nPaula Leach, Founder and Executive Coach, Vantage Points Consulting\nFor more than 25 years Paul Leach has worked alongside leaders within organisations covering multinational private sector, large scale public sector and entrepreneurial growth. She has held the executive positions of Chief People Officer at the Home Office and in the FTSE 250 company FDM Group.\nAs a partner to business leaders for many years, Paula has coached and developed many leaders from career to leadership effectiveness, diversity and inclusion impact and strategic business focus and outcomes. She partners with leaders to help them unlock their own leadership qualities through personalised executive coaching.\n \nTo join the webinar\nREGISTER HERE\n \n\nDid you graduate from an AMBA-accredited programme at Audencia?\nThis webinar is accessible to students or alumni of an AMBA-accredited programme at Audencia, i.e., Executive MBA, EuroMBA, Full-Time MBA or Master in Management (Grande Ecole Programme), but registration is required. Registering as an alum of an AMBA-accredited programme takes only a few minutes.\nThis event is free for AMBA members to attend but registration is required using the link above.\n \n
BEGIN:VALARM
ACTION:DISPLAY
TRIGGER:-PT60M
DESCRIPTION:Webinar: Vantage points – the simple equation for leadership
END:VALARM
END:VEVENT
END:VCALENDAR