BEGIN:VCALENDAR
VERSION:2.0
X-WR-TIMEZONE:Europe/Paris
PRODID:-//Audencia//NONSGML v1.0//EN
CALSCALE:GREGORIAN
BEGIN:VEVENT
SUMMARY:Club Activités Culturelles - Visite du Marais
DTSTART:20211002T110000
DTEND:20211002T121500
UID:1022
DTSTAMP:20260425T210146
LOCATION:Place des Vosges
DESCRIPTION:Le Club Activités Culturelles organise une visite du quartier du Marais le samedi 2 octobre à 11h.\n\nPlaces limitées, inscriptions obligatoires !\n \n\nQuestions : nushad.merchant@audencia.com
BEGIN:VALARM
ACTION:DISPLAY
TRIGGER:-PT60M
DESCRIPTION:Club Activités Culturelles - Visite du Marais
END:VALARM
END:VEVENT
END:VCALENDAR