BEGIN:VCALENDAR
VERSION:2.0
X-WR-TIMEZONE:Europe/Paris
PRODID:-//Audencia//NONSGML v1.0//EN
CALSCALE:GREGORIAN
BEGIN:VEVENT
SUMMARY:Afterwork à Genève
DTSTART:20210624T180000
DTEND:20210624T210000
UID:1021
DTSTAMP:20260425T211243
LOCATION:Restaurant La Potinière Genève
DESCRIPTION:Nous vous proposons un Afterwork le jeudi 24 juin à partir de 18h.\nRetrouvons-nous à la Potinière, située au sein du Jardin Anglais à Genève.\n\nAu plaisir de vous y voir nombreux!\n\n\n 
BEGIN:VALARM
ACTION:DISPLAY
TRIGGER:-PT60M
DESCRIPTION:Afterwork à Genève
END:VALARM
END:VEVENT
END:VCALENDAR