BEGIN:VCALENDAR
VERSION:2.0
X-WR-TIMEZONE:Europe/Paris
PRODID:-//Audencia//NONSGML v1.0//EN
CALSCALE:GREGORIAN
BEGIN:VEVENT
SUMMARY:Assemblée Générale de l'association Audencia Alumni
DTSTART:20210708T180000
DTEND:20260425T210208
UID:1020
DTSTAMP:20260425T210208
LOCATION:
DESCRIPTION:Chère diplômée Audencia, Cher diplômé Audencia,\n \nL'Association Audencia Alumni a le plaisir de vous convier à son assemblée générale annuelle qui aura lieu le jeudi 8 juillet, à 18h00 en ligne.\n\nElle se déroulera en deux temps : une assemblée générale extraordinaire (AGE), puis une assemblée générale ordinaire (AGO).\n \n>> Pour accéder à l’AG le jour J : https://spatial.chat/s/audenciaalumni <<  \n\nOrdre du jour \n\n1. Ordre du jour de l'A.G.E.\n\n	Mise à jour des statuts de l’association\n	\n		Autorisation d’une Assemblée Générale en ligne\n		Evolution du nombre d’Administrateurs au sein du Conseil d’Administration\n		Evolution de la représentation des différents programmes au sein du Conseil d’Administration\n		Evolution du système de vote (en ligne)\n	\n	\n\n  \n2. Ordre du jour de l'A.G.O.\n\n	Présentation du rapport moral\n	Présentation du rapport financier de 2020 et du budget 2021\n	Présentation des candidats au conseil d’administration\n\n \nLe vote se fera uniquement en ligne par la plateforme Euro-vote : solution hébergée en France, accessible sur tous les supports et respectant les réglementations en Data Privacy. Votre adresse électronique a été déposée chez un huissier de justice qui en garantit sa non-divulgation et sa non-utilisation à d’autres fins que celles utiles à l’organisation des élections.\n \n\nPour vous connecter à la plateforme d’authentification de l’huissier, sur laquelle vous devez saisir l’adresse de courrier électronique utilisé pour votre connexion Together : https://audencia-21-auth.secure-vote.org\n\n \n\nAllo, allo, allo... pardon, on me parle dans l'oreillette. Non, désolée. En fait, elle se déroulera en trois temps avec quelques surprises concoctées par des Alumni, pour des Alumni et mettant en avant d'autres Alumni ! ? Alors, venez rejoindre la communauté afin de partager ce moment de convivialité virtuelle tous ensemble ! \n\n\nAu plaisir de vous retrouver en ligne lors de notre assemblée générale !\n\nSi vous souhaitez de plus amples informations, vous pouvez prendre contact avec nous via audenciaalumni@audencia.com.\n\nFlavie LORRE (GE 98)\nPrésidente de l'association Audencia Alumni
BEGIN:VALARM
ACTION:DISPLAY
TRIGGER:-PT60M
DESCRIPTION:Assemblée Générale de l'association Audencia Alumni
END:VALARM
END:VEVENT
END:VCALENDAR