BEGIN:VCALENDAR
VERSION:2.0
X-WR-TIMEZONE:Europe/Paris
PRODID:-//Audencia//NONSGML v1.0//EN
CALSCALE:GREGORIAN
BEGIN:VEVENT
SUMMARY:Comédie Musicale - avant-première
DTSTART:20171031T203000
DTEND:20260425T205848
UID:102
DTSTAMP:20260425T205848
LOCATION:Théâtre L'Odyssée d'Orvault -  Bois Cesbron, 44700 Orvault
DESCRIPTION:\nChers Alumni, chers tous,\n\nLe BDA (Bureau des Arts) vous convie à l'avant-première d’une soirée spéciale au Théâtre d’Orvault !\n\nDepuis janvier, le pôle CoMu (Comédie Musicale) d'Audencia travaille d’arrache-pied à la conception d’un spectacle inédit et de qualité !\n\nMusique, danse, théâtre seront au rendez-vous pour vous faire vivre un moment inoubliable !!\n\nCette année, vous serez plongés au cœur de la lutte sans-merci que livre le mal dans un monde où le bien est sur le point de triompher. Intrigues, complots et trahisons, rien ne vous sera épargné.\nSuivez les aventures de Jacques et Michelle, nos deux agents infiltrés au beau milieu du congrès du mal où complotent les pires criminels connus à ce jour. Ensemble, sauront-ils triompher de la maléfique Elle ? Parviendront-ils à faire triompher le bien ?\nPour le savoir... rendez-vous mardi 31 octobre à 20h30 !\n \n\n\nCliquez sur l'image pour avoir un aperçu de la Comédie musicale...
BEGIN:VALARM
ACTION:DISPLAY
TRIGGER:-PT60M
DESCRIPTION:Comédie Musicale - avant-première
END:VALARM
END:VEVENT
END:VCALENDAR