BEGIN:VCALENDAR
VERSION:2.0
X-WR-TIMEZONE:Europe/Paris
PRODID:-//Audencia//NONSGML v1.0//EN
CALSCALE:GREGORIAN
BEGIN:VEVENT
SUMMARY:Club Transitions - Afterwork
DTSTART:20210708T190000
DTEND:20210708T230000
UID:1019
DTSTAMP:20260425T211045
LOCATION:LA RECYCLERIE 83, boulevard Ornano 75018 Paris
DESCRIPTION:Le Club Audencia Transitions paye sa tournée ! ?\n\nOeuvrer pour rendre la société plus inclusive et durable, ça te parle ?\nC'est ton envie ? Ton quotidien ?\n\nTu t'engages dans ta vie pro et tu aimerais bien trouver d'autres personnes à qui en parler ?\nTu aimerais bien (re)trouver du sens dans ton taf et tu te poses tout un tas de questions ?\n\nTu es déjà investi.e dans l'ESS et tu aimerais connaitre celles et ceux d'Audencia qui sont également engagés dans cet écosystème ?\n\nAutant de raisons de venir nous rejoindre le 8 juillet autour d'un verre !\n \nRetrouvez-nous à La Recyclerie à partir de 19h\n(83, boulevard Ornano, 75018 Paris)\n\nSi vous ne trouvez pas les membres du club sur place,\nN'hésitez pas à appeler Nicolas Vergne au 07.87.86.50.89
BEGIN:VALARM
ACTION:DISPLAY
TRIGGER:-PT60M
DESCRIPTION:Club Transitions - Afterwork
END:VALARM
END:VEVENT
END:VCALENDAR