BEGIN:VCALENDAR
VERSION:2.0
X-WR-TIMEZONE:Europe/Paris
PRODID:-//Audencia//NONSGML v1.0//EN
CALSCALE:GREGORIAN
BEGIN:VEVENT
SUMMARY:Webinar - Comment réussir son projet professionnel dans le secteur du sport
DTSTART:20210702T123000
DTEND:20210702T140000
UID:1018
DTSTAMP:20260425T210022
LOCATION:
DESCRIPTION:Allier votre passion pour le sport à votre métier, c’est possible, mais attention à bien définir son projet professionnel en amont.\n \n\nÀ propos de cet évènement\n\nSi vous souhaitez parfaire votre connaissance du secteur, apprendre à développer votre réseau professionnel… venez échanger avec Etienne CASSAGNE, Alumni et Directeur du Mastère Spécialisé® Management responsable des Organisations Sportives (MS® MOS) et Jean-Baptiste CAYEUX, Alumni du MS® MOS et Co-fondateur de BOOST, pour repartir avec de bons conseils, des réponses adéquates à vos questions et une meilleure compréhension de cette filière à fort développement économique.\n\n \n\nPour toutes questions au sujet de cet évènement, n'hésitez pas à nous contacter à ms@audencia.com\n\nInscriptions ?? https://bit.ly/3wBLxOL
BEGIN:VALARM
ACTION:DISPLAY
TRIGGER:-PT60M
DESCRIPTION:Webinar - Comment réussir son projet professionnel dans le secteur du sport
END:VALARM
END:VEVENT
END:VCALENDAR