BEGIN:VCALENDAR
VERSION:2.0
X-WR-TIMEZONE:Europe/Paris
PRODID:-//Audencia//NONSGML v1.0//EN
CALSCALE:GREGORIAN
BEGIN:VEVENT
SUMMARY:Audencia Homecoming Day 2021
DTSTART:20211016T163000
DTEND:20260425T210007
UID:1017
DTSTAMP:20260425T210007
LOCATION:Audencia, Nantes
DESCRIPTION:\n\nChers diplômés,\n\nIl y a un an, 15 ans, 50 ans, vous acheviez votre parcours à Audencia, qui était peut-être encore SciencesCom, EAC ou Sup de Co Nantes.\nPour célébrer cet anniversaire* comme il se doit, nous avons le plaisir de vous inviter à la 2e édition de Audencia Homecoming Day, un événement annuel de retrouvailles et de célébration des anniversaires de promotion de tous les programmes de l'école.\n\n \n\n\n\n\nLe temps d’une fin d'après-midi et d'une soirée pleine de surprises, nous vous promettons de raviver vos beaux souvenirs, en vous entraînant dans un voyage au cœur de votre école pour une expérience immersive à la (re)découverte des lieux et des personnes qui ont marqué vos années étudiantes.\n\nCette journée unique et forte en émotions sera rythmée par différentes activités dans l'école :\n\n16:30   Accueil sur les campus Atlantic & City (les inscrits recevront les adresses exactes par mail)\n17:00   Mots de bienvenue\n17:30   Activités\n\n\n	Œnologie\n	International\n	Blindtest culture\n	Challenge sportif\n\n19:00   Pause pour permettre aux participants de se changer pour la soirée\n20:00   Accueil de la soirée qui se tiendra au gymnase\n\n\n	Une occasion unique et un moment festif dans un lieu que vous connaissez mais ne reconnaîtriez pas dans sa tenue homecoming, façon bal de promo !\n\n20:30   Cocktail dinatoire et soirée dansante\n02:00   Fin\n\nRencontrez ceux qui font Audencia aujourd’hui, retrouvez des camarades perdus de vue et faites le plein d’émotions, avant de clôturer ces retrouvailles lors d'une soirée mémorable, dans un lieu encore tenu secret.\n\n* Les alumni concernés par cette édition sont ceux dont l'année de promotion termine par 0, 1, 5 et 6 et la promotion 2019.\n \nVeuillez noter que le Pass Sanitaire est obligatoire pour accéder à l'événement.\nChaque participant devra présenter son Pass Sanitaire qui consiste en la présentation, numérique ou papier, d'une preuve sanitaire dont voici la liste :\n\n	La vaccination, à la condition de disposer d'un schéma vaccinal complet (les deux doses avec un délai de 7 jours après la deuxième injection)\n	La preuve d'un test PCR ou antigénique négatif de moins de 72h\n	Le résultat d'un test PCR positif (attestant du rétablissement du Covid-19) datant d'au moins 11 jours et de moins de 6 mois \n\nEn cas d'annulation de l'événement pour des raisons de santé, les frais d'inscription seront remboursés.\n \n\nDear alumni,\n \nBe it a year, 15 or even 50 years, since you graduated from Audencia, which may have been known as SciencesCom, EAC or Sup de Co Nantes at the time.\nTo celebrate this anniversary, as it should be, we are glad to invite you to the second edition of Audencia Homecoming Day, a yearly event of getting together to celebration your class anniversaries.\n\n\nThis unique and emotional day will be punctuated by various activities in the school:\n\n16:30 Welcome at the Atlantic & City campuses (participants will receive the exact addresses by email)\n17:00 Words of welcome\n17:30 Activities:\n\n\n	Winetasting\n	International challenge\n	Cultural blindtest\n	Sporting challenge\n\n\n19:00 Break to allow participants to change for the evening\n20:00 Evening welcome at the gym!\n\n\n	A unique opportunity in a place you know but won't recognise in its homecoming evening dress!\n\n\n20:30 Cocktail reception and dancefloor\n02:00 End\n\n\nMeet the people who are at Audencia today, catch up with your fellow alumni and enjoy this time together, with a memorable evening party in the gymnasium!\n \n* The alumni concerned by this edition are those whose class year ends with 0, 1, 5 and 6 and year 2019.\n \nPlease note that the Health Pass is required to access the event.\n\nEach participant will have to present his or her Health Pass, which consists of the presentation, in digital or paper form, of a health proof, as follows:\n\n\n	Vaccination, provided that a complete vaccination schedule is available (both doses with a delay of 7 days after the second injection)\n	Proof of a negative PCR or antigen test less than 72 hours old\n	A positive PCR test result (showing recovery of Covid-19) at least 11 days old and less than 6 months old\n\nIn case of cancellation of the event for health reasons, the registration fee will be refunded.\n \n\n 
BEGIN:VALARM
ACTION:DISPLAY
TRIGGER:-PT60M
DESCRIPTION:Audencia Homecoming Day 2021
END:VALARM
END:VEVENT
END:VCALENDAR