BEGIN:VCALENDAR
VERSION:2.0
X-WR-TIMEZONE:Europe/Paris
PRODID:-//Audencia//NONSGML v1.0//EN
CALSCALE:GREGORIAN
BEGIN:VEVENT
SUMMARY:Chapter Nantes - Afterwork à la Cantine du Voyage
DTSTART:20210701T190000
DTEND:20210701T210000
UID:1016
DTSTAMP:20260425T210047
LOCATION:La Cantine du Voyage 20 Quai des Antilles, 44200 Nantes
DESCRIPTION:Bonjour à toutes et tous,\n\nLes ambassadrices du Chapter Nantes sont ravies de pouvoir enfin vous proposer une rencontre sans écrans interposés, dans le respect des gestes barrières naturellement!\n\nNous vous proposons de nous retrouver le jeudi 1er juillet à 19h pour partager un verre et quelques snacks à la Cantine du Voyage à Nantes.\n \n- Merci de vous inscrire ici pour pouvoir profiter d'un verre offert par le Chapter Nantes - \n\nNous nous réjouissons de vous voir enfin de nouveau en vrai!\n\nA très vite,\nAlexandra, Claire & Hélène\n \nDear Audencia Alumni,\n\nYour Chapter ambassadors are glad to actually be able to invite you without it being behind our screens! \n\nLet's meet on Thursday 1st of July at 7 p.m. to share a drink and some snacks at La Cantine du Voyage in Nantes.\n \n- please register here in order to enjoy a drink offered by the Chapter -\n\nWe are looking forward to meet you again for real!\n\nSee you soon,\nAlexandra, Claire & Hélène\n 
BEGIN:VALARM
ACTION:DISPLAY
TRIGGER:-PT60M
DESCRIPTION:Chapter Nantes - Afterwork à la Cantine du Voyage
END:VALARM
END:VEVENT
END:VCALENDAR