BEGIN:VCALENDAR
VERSION:2.0
X-WR-TIMEZONE:Europe/Paris
PRODID:-//Audencia//NONSGML v1.0//EN
CALSCALE:GREGORIAN
BEGIN:VEVENT
SUMMARY:Alumni Afterwork Gathering
DTSTART:20210624T130000
DTEND:20210624T180000
UID:1015
DTSTAMP:20260425T210028
LOCATION:The Pawn, 62 Johnston Road, Wan Chai, Hong Kong, China
DESCRIPTION:\n\nTo our alumni in Hong Kong, \n\nAudencia Alumni event is confirmed on Thursday, 24th June starting from 7 pm at a beautiful historical building in Wan Chai, The Pawn bar.\n\nI have booked a spot for us. Wine and finger food will be provided. So the only thing we need now is...your attendance! \n\nSee you there! \n\nEmma\nAlumni Ambassador Hong Kong
BEGIN:VALARM
ACTION:DISPLAY
TRIGGER:-PT60M
DESCRIPTION:Alumni Afterwork Gathering
END:VALARM
END:VEVENT
END:VCALENDAR