BEGIN:VCALENDAR
VERSION:2.0
X-WR-TIMEZONE:Europe/Paris
PRODID:-//Audencia//NONSGML v1.0//EN
CALSCALE:GREGORIAN
BEGIN:VEVENT
SUMMARY:Programme Transformation - Quelles compétences/connaissances pour être acteur de la Transition?
DTSTART:20210623T123000
DTEND:20210623T133000
UID:1014
DTSTAMP:20260425T205950
LOCATION:
DESCRIPTION:Le monde est en profonde mutation ?\n\nIl est nécessaire de faire évoluer ses compétences et connaissances pour devenir un.e véritable acteur.rice de la transition et prendre part au changement ! ??\n\nMais quelles sont ces nouvelles compétences et connaissances à acquérir ? ?\n\n3 intervenant.e.s vous apportent leur éclairage sur cette question :\n? Jérôme Cohen, Fondateur et Président d'ENGAGE\n? Sophie Portier, Responsable Fonds Tourisme Durable chez l'ADEME\n? Nicolas Vergne, Responsable Développement chez jobs_that_makesense\n \nJérôme en profitera pour vous présenter le Programme Transformation d’ENGAGE : 75 heures de découverte, d’approfondissement et de mise en pratique avec leurs Intervenant.e.s-Éclaireur.se.s de haute voltige pour comprendre les enjeux contemporains à travers une approche systémique et acquérir ces compétences et outils de la transition.\n\n? La date ? Mercredi 23 juin de 12h30 à 13h30\n\nPour vous inscrire, c'est par ici :\n? https://bit.ly/3vdHnLy\n\nHâte de vous y voir, ça va être la folie !\n\n#competences #transitionpro #leadership #sustainability #transformation
BEGIN:VALARM
ACTION:DISPLAY
TRIGGER:-PT60M
DESCRIPTION:Programme Transformation - Quelles compétences/connaissances pour être acteur de la Transition?
END:VALARM
END:VEVENT
END:VCALENDAR