BEGIN:VCALENDAR
VERSION:2.0
X-WR-TIMEZONE:Europe/Paris
PRODID:-//Audencia//NONSGML v1.0//EN
CALSCALE:GREGORIAN
BEGIN:VEVENT
SUMMARY:RH et RSE, comment se former aux enjeux de la transition ?
DTSTART:20210622T183000
DTEND:20260425T210028
UID:1013
DTSTAMP:20260425T210028
LOCATION:Audencia (Amphithéâtre Edit de Nantes)  8 Route de la Jonelière, 44312 Nantes
DESCRIPTION:\n\nUne conférence HYPHAE-AUDENCIA pour se former aux évolutions RH et RSE\n \nVous souhaitez développer vos compétences, tant techniques que managériales, nécessaires à la réussite d’un projet ou d’une stratégie de transition énergétique ?\nNous vous proposons une conférence dédiée aux enjeux RH et RSE avec un focus sur le Mastère spécialisé Acteur pour la Transition Énergétique (APTE) d'Audencia afin de vous apporter toutes les clés nécessaires.\n\nAu programme :\n\n\n	Présentation du cursus et des engagements RSE d'Audencia / Région\n\n\n\n	Témoignages d'étudiants et jeunes diplômés avec André Sobczak, responsable de la formation\n\n\n\n	Transfert de connaissances d'HYPHAE entreprise à mission, spécialiste du slashing\n\n\n\n	Echanges en Questions / Réponses avec les intervenants\n\n \nLes intervenants :\n\n\n	André Sobczak, Directeur académique du Mastère Spécialisé Acteur pour la Transition Energétique d'Audencia, Titulaire de la Chaire Responsabilité Sociétale des Entreprises d'Audencia et Vice-président en charge de l'Europe, de l'emploi et de la responsabilité sociétale des entreprises à Nantes Métropole.\n	Delphine Michaud, diplômée du Mastère Spécialisé Acteur Pour la Transition Energétique d'Audencia, consultante et formatrice RSE & Achats Responsables au sein de l'agence Déclic Territoire de demain.\n	Teddy Travert, slasheur et co-fondateur d'HYPHAE, spécialiste du slashing et de la multi-activités.\n\nLes événements HYPHAE sont à la recherche d'impact et de sens. Ouverts à tous, ils ont deux objectifs :\n\n\n	apporter de l'émotion et de la connaissance sur les enjeux RH/RSE\n	montrer l'accessibilité grâce à des exemples concrets associés\n\nIls sont alignés avec notre engagement HYPHAE d'Entreprise à mission N° 4 : apporter de la connaissance en informant, sensibilisant, formant autour des enjeux que nous partageons.\n \nParticipez à l'événement > \n \n\n\n	\n	\n\n \n\n\n	\n		\n			En présentiel : 50 places disponibles\n			> Audencia : 8 Route de la Jonelière, 44312 Nantes - Amphithéâtre Edit de Nantes\n			 \n			En digital : 150 places disponibles\n			> Un lien de connexion vous sera envoyé quelques jours avant l'événement\n		\n	\n\n \n\nINSCRIPTION >
BEGIN:VALARM
ACTION:DISPLAY
TRIGGER:-PT60M
DESCRIPTION:RH et RSE, comment se former aux enjeux de la transition ?
END:VALARM
END:VEVENT
END:VCALENDAR