BEGIN:VCALENDAR
VERSION:2.0
X-WR-TIMEZONE:Europe/Paris
PRODID:-//Audencia//NONSGML v1.0//EN
CALSCALE:GREGORIAN
BEGIN:VEVENT
SUMMARY:Alumni  Movie Sunday
DTSTART:20210620T100000
DTEND:20210620T160000
UID:1012
DTSTAMP:20260425T205730
LOCATION:Institut Français, Guangcai International Mansion, 18 Gongti Xilu, Beijing, China
DESCRIPTION:\n
BEGIN:VALARM
ACTION:DISPLAY
TRIGGER:-PT60M
DESCRIPTION:Alumni  Movie Sunday
END:VALARM
END:VEVENT
END:VCALENDAR