BEGIN:VCALENDAR
VERSION:2.0
X-WR-TIMEZONE:Europe/Paris
PRODID:-//Audencia//NONSGML v1.0//EN
CALSCALE:GREGORIAN
BEGIN:VEVENT
SUMMARY:Demo Day des Start-up de la promotion Février 2021
DTSTART:20210701T170000
DTEND:20260425T210117
UID:1011
DTSTAMP:20260425T210117
LOCATION:
DESCRIPTION:\nLes Start-up de la promotion Février 2021 vous invitent à les découvrir lors de leur Demo Day le jeudi 1er juillet à 17h (en ligne).\n\nDepuis février, c'est 4 startups et 12 entrepreneurs engagés qui sont accompagnés sur leur phase d’amorçage par l’Incubateur Centrale Audencia Ensa !\n \nInscription > \n\nÉvénement incontournable pour marquer la fin du programme de pré-accélération de l'Incubateur, le Demo Day a pour objectif de faire pitcher les start-up devant les investisseurs du territoire (institutionnels, business angels, et fonds d’investissement) mais également de bénéficier de votre regard critique et bienveillant, de vos conseils, et pourquoi pas de vos bonnes idées.\n\nAlors venez les découvrir et posez vos questions en direct !\n\nLes start-up présentes :\n \n\n	EFISCIA : Solution Saas d'analyse financière à destination des Experts-Comptables\n	 \n	MIURA : Éditeur de logiciels indépendant, pionnier sur la simulation numérique en temps-réel et sur les technologies Digital Twin\n	 \n	SONA X : Solution collaborative destinée au monde du BTP pour éveiller l’inventivité et la créativité des constructeurs de demain\n\n \n\n\n	WE WIINK : Plateforme SaaS d’optimisation marketing, qui permet aux marques de mener des campagnes d’engagement client multi réseaux sociaux\n\n \n\n--> Inscrivez-vous dès maintenant grâce à ce lien : INSCRIPTION\n\n 
BEGIN:VALARM
ACTION:DISPLAY
TRIGGER:-PT60M
DESCRIPTION:Demo Day des Start-up de la promotion Février 2021
END:VALARM
END:VEVENT
END:VCALENDAR