BEGIN:VCALENDAR
VERSION:2.0
X-WR-TIMEZONE:Europe/Paris
PRODID:-//Audencia//NONSGML v1.0//EN
CALSCALE:GREGORIAN
BEGIN:VEVENT
SUMMARY:Participez à l'inauguration du TREEG, sur le parvis d'Audencia !
DTSTART:20210625T113000
DTEND:20260425T210027
UID:1010
DTSTAMP:20260425T210027
LOCATION:Audencia 8 Route de la Jonelière 44312 Nantes
DESCRIPTION:\n \nAudencia et La Fondation de France ont le plaisir de vous convier à l'inauguration de l’œuvre de l’artiste Pascale MARTHINE-TAYOU appelée le TREEG, le vendredi 25 juin prochain sur le parvis d’Audencia.\n\nLe TREEG, contraction des mots TREE et EGG, est l'arbre aux œufs de la connaissance. Il est le symbole de l'engagement et de l'ouverture historique d'Audencia en faveur de la culture et des arts au sens large.\n\nInscription >\n\n\nRéalisée dans le cadre de l'action Nouveaux Commanditaires de la Fondation de France et intégrée au réputé catalogue du Voyage à Nantes, l’œuvre s’inscrit dans le renouveau de l’école grâce à un nouvel enjeu : devenir non pas la meilleure école du monde mais une école meilleure pour le monde.\n\nDans cette optique, Audencia à travers son nouveau plan stratégique ECOS 2025 prévoit la création de Gaia, l’école de la transition écologique et sociale dont le TREEG serait le symbole, et a inspiré son logo.\n\nCette création artistique est aussi le projet de la culture accueillante et inclusive qui prône les échanges. Les racines de l’arbre seront des bancs où les étudiants, les touristes ou les habitants de la ville pourront vivre une réelle expérience immersive autour de la culture.\n\nAfin d’échanger sur ce projet collaboratif, nous vous convions à participer à l’inauguration officielle du TREEG, le vendredi 25 juin 2021 de 11h30 à 12h30.\n\nL’inauguration sera également l’occasion de vous faire (re) découvrir Atlantic Campus : le campus historique de l’école, rénové et agrandi avec de nouveaux espaces étudiants et espaces de vie.\nINSCRIPTION >\n\nPour celles et ceux qui ne pourront être à nos côtés sur Nantes, la table ronde sera intégralement diffusée en direct sur audencia.com/live.\n\nAu plaisir de vous retrouver pour ce moment convivial !
BEGIN:VALARM
ACTION:DISPLAY
TRIGGER:-PT60M
DESCRIPTION:Participez à l'inauguration du TREEG, sur le parvis d'Audencia !
END:VALARM
END:VEVENT
END:VCALENDAR