BEGIN:VCALENDAR
VERSION:2.0
X-WR-TIMEZONE:Europe/Paris
PRODID:-//Audencia//NONSGML v1.0//EN
CALSCALE:GREGORIAN
BEGIN:VEVENT
SUMMARY:Afterwork in Brussels, Belgium
DTSTART:20171011T190000
DTEND:20171011T210000
UID:101
DTSTAMP:20260425T205847
LOCATION:La Trinquette  Rue de l'Aqueduc 1060 SAINT GILLES (Trams: 81, 92, 97 Station: Janson)
DESCRIPTION:Audencia Alumni in Brussels!\n\nKatie Francois works on the Audencia Alumni team in Nantes and on the occasion of her visit to Brussels, she would like to meet up with alumni for an informal afterwork gathering.\n\nJoin her and alumni from Audencia:\nfrom 7pm \non Wednesday 11th October \nat\n \n\nLa Trinquette wine bar\nRue de l'Aqueduc\nBrussels\n(Trams:  81, 92, 97 Station: Janson)\n\nThis will be a great opportunity to catch up with news from Audencia and share thoughts and ideas for the Brussels community!
BEGIN:VALARM
ACTION:DISPLAY
TRIGGER:-PT60M
DESCRIPTION:Afterwork in Brussels, Belgium
END:VALARM
END:VEVENT
END:VCALENDAR