BEGIN:VCALENDAR
VERSION:2.0
X-WR-TIMEZONE:Europe/Paris
PRODID:-//Audencia//NONSGML v1.0//EN
CALSCALE:GREGORIAN
BEGIN:VEVENT
SUMMARY:OKR Virtual Forum – Edition Française
DTSTART:20210624T130000
DTEND:20210624T190000
UID:1009
DTSTAMP:20260425T210149
LOCATION:
DESCRIPTION:\n\nSuite au succès de l’édition Européenne d’OKR Forum qui se tient depuis 3 ans, et aux vues de l’ampleur grandissante du sujet OKR en France, Audencia Alumni a le plaisir de vous proposer une édition spéciale francophone (France, Belgique et Luxembourg) pour laquelle nous sommes partenaire.\n\nCette édition aura lieu le jeudi 24 juin 2021 de 13h à 19h et réunira leaders et experts dans les domaines de la transformation digitale, RH, produit et tech pour networker et développer leurs connaissances sur la méthode des OKRs et les usages en entreprises\n\nL’objectif étant de permettre de découvrir ou approfondir vos connaissances sur le modèle OKR, d’écouter des experts du sujet et des cas d’études concrets et d’échanger avec des intervenants de haute qualité, leaders d’entreprises et consultants expérimentés.\n\nAu programme de cette demi-journée virtuelle, un mix de keynotes, ateliers d’experts et cas d’études répartis en 2 catégories selon votre niveau d’expertise :\n- Découvrir OKR\n- S’améliorer en OKR\n\nAlors si vous souhaitez participer à une expérience unique de networking avec des leaders et des experts d’OKR francophones, réservez vos tickets grace au tarif préférentiel "AudenciaOKR" !\n\nPlus d'infos via : OKR Forum France
BEGIN:VALARM
ACTION:DISPLAY
TRIGGER:-PT60M
DESCRIPTION:OKR Virtual Forum – Edition Française
END:VALARM
END:VEVENT
END:VCALENDAR