BEGIN:VCALENDAR
VERSION:2.0
X-WR-TIMEZONE:Europe/Paris
PRODID:-//Audencia//NONSGML v1.0//EN
CALSCALE:GREGORIAN
BEGIN:VEVENT
SUMMARY:Club Culture & Management - Les nouveaux défis de la presse
DTSTART:20210609T190000
DTEND:20210609T210000
UID:1008
DTSTAMP:20260425T210029
LOCATION:Fondation Pernod Ricard 1 Cours Paul Ricard 75008 Paris
DESCRIPTION:Découvrez en exclusivité les nouveaux locaux de la Fondation Pernod Ricard et retrouvez les joies de l'apéro networking lors de notre débat du mercredi 9 juin !\n\nEn France, la presse écrite et imprimée rencontre depuis des années de grandes difficultés. L'activité de diffusion s’inscrit dans un marché en forte érosion : - 54 % en volume sur la période 2008-2018. La crise de la distribution, provoquée par le redressement judiciaire de la messagerie historique Presstalis, a accéléré ces difficultés.\n\nVenez débattre sur ce sujet actuel et primordial pour la vitalité de la démocratie, à travers le regard d’acteurs engagés, soit pour le numérique, soit pour l’objet que l’on feuillette :\n\n\n	\n	Jean-Paul Arif, président et directeur des publications de Scrineo / L'Éléphant la revue\n	\n	\n	Nathalie Desaix, directrice de la marque et de la communication de 20 Minutes\n	\n	\n	Patrick Eveno, professeur émérite à Université Paris 1 Panthéon - Sorbonne\n	\n	\n	Augustin Naepels, directeur général et cofondateur de Les Jours\n	\n\n \n\nInformations et réservation en présentiel ou sur Zoom !\n\n \n\nEXCLUSIF : Visite guidée à 18h30\nBancale, baroque et jubilatoire, « Le Juste Prix », au-delà du clin d’œil tendre au Prix de la Fondation Pernod Ricard qui chaque année récompense un ou une jeune artiste, est un pied de nez à l’époque engluée et désorientée qu’est la nôtre. Une invitation à se tenir sur la brèche, à l’affût.\nConfirmez votre présence en envoyant un mail à opening@fondation-pernod-ricard.com\n\n \n\nAu plaisir de vous retrouver,\nL'équipe du Club Culture & Management\n\n \n\nMODALITÉS PRATIQUES :\n\n\nEN PRÉSENTIEL\n\n\n	\n	Le débat commence à 19h, l'accueil se fait à partir de 18h30\n	\n	\n	A la fin du débat, il y aura un temps pour poser des questions aux intervenants\n	\n	\n	Echange convivial autour d'un verre offert à l'issue du débat\n	\n	\n	Tarifs : 25€ / 15€ (réduit pour étudiant et demandeur d'emploi sur présentation d'un justificatif de moins de 3 mois)\n	\n	\n	Paiement en ligne et en amont pour des raisons sanitaires\n	\n\n\n\nSUR ZOOM \n\n\n	\n	Le webinaire démarre à 19h\n	\n	\n	Après inscription, vous recevrez un lien Zoom dans l'heure précédant le débat pour vous connecter au webinaire\n	\n	\n	Tarif unique à 10€\n	 \n\n	\n	\n
BEGIN:VALARM
ACTION:DISPLAY
TRIGGER:-PT60M
DESCRIPTION:Club Culture & Management - Les nouveaux défis de la presse
END:VALARM
END:VEVENT
END:VCALENDAR