BEGIN:VCALENDAR
VERSION:2.0
X-WR-TIMEZONE:Europe/Paris
PRODID:-//Audencia//NONSGML v1.0//EN
CALSCALE:GREGORIAN
BEGIN:VEVENT
SUMMARY:Webinar: How to make your marketing as binge-worthy as a hit TV series
DTSTART:20210713T130000
DTEND:20210713T140000
UID:1006
DTSTAMP:20260425T210047
LOCATION:
DESCRIPTION:AMBA webinar "Webinar: How to make your marketing as binge-worthy as a hit TV series"\n\nDate: Tuesday 13 July 2021\nTime: 13:00-14:00 Paris time\n\nThis webinar will take you on a journey to a parallel universe.\nIn this universe the best storytellers and audience builders have been doing for decades, what marketers have spent the past 10 years attempting to reinvent.\nDuring this webinar, you will gain an understanding of marketers can learn from the creators of films and hit TV series.\nWhat techniques and tactics are they using to create consistent and compelling storylines? How do they attract and retain an audience? And how can marketers use that to their benefit?\n\nYou will:\n\n	learn how to translate your brand story into the scenario of a great television series where every piece of content is an episode of that same series.\n	learn to understand and work with the difference between a target group and an audience.\n	be introduced to the audience journey: what content is relevant to your audience at what point in its journey. But above all, you’ll be inspired by everything marketers can learn from the creators of films and TV. Binge watching your favorite shows will never be the same again.\n\n\nAbout the speaker\n\n\n\nCarlijn Postma is a Dutch author, speaker and content marketing strategist. \n\n\n\n \n\nTo join the webinar\nREGISTER HERE\n \n\nDid you graduate from an AMBA-accredited programme at Audencia?\nThis webinar is accessible to students or alumni of an AMBA-accredited programme at Audencia, i.e., Executive MBA, EuroMBA, Full-Time MBA or Master in Management (Grande Ecole Programme), but registration is required. Registering as an alum of an AMBA-accredited programme takes only a few minutes.\nThis event is free for AMBA members to attend but registration is required using the link above.
BEGIN:VALARM
ACTION:DISPLAY
TRIGGER:-PT60M
DESCRIPTION:Webinar: How to make your marketing as binge-worthy as a hit TV series
END:VALARM
END:VEVENT
END:VCALENDAR