BEGIN:VCALENDAR
VERSION:2.0
X-WR-TIMEZONE:Europe/Paris
PRODID:-//Audencia//NONSGML v1.0//EN
CALSCALE:GREGORIAN
BEGIN:VEVENT
SUMMARY:Webinar: Developing and maintaining professional competencies for Business School graduates
DTSTART:20210707T120000
DTEND:20210707T130000
UID:1005
DTSTAMP:20260425T210004
LOCATION:
DESCRIPTION:AMBA webinar "Developing and maintaining professional competencies for Business School graduates"\n\nDate: Wednesday 7 July 2021\nTime: 12:00-13:00 Paris time\n\nYour career success depends on your motivation and the acquisition of new competencies. Prioritising learning and continuous improvement are vital parts in the life of a successful leader.\nSkills are developed over time through experience, specialised training, and practice. However, with the demands on your time, fitting academic courses, training programmes, seminars or workshops into your schedule is not always possible.\nImagine having access to high-quality education that you can engage with at any time and from any location. Imagine that this resource provides you with practical skills and information that you can integrate into your professional life right away. Online learning modules make this a reality.\nPlease join us for a free webinar to learn about the wide range of competencies building modules that will help you excel in your career.\nAbout the speaker\n\nPaul Mallette, Director of EMEA Operations, Peregrine Global Services, has more than 30 years of global experience in higher education in teaching, administration, and accreditation positions.\nAt Peregrine, he specialises in accreditation compliance and learning solutions for Business Schools in Europe, the Middle East, and Asia.\n\n\n \n \n\nTo join the webinar\nREGISTER HERE\n \n\nDid you graduate from an AMBA-accredited programme at Audencia?\nThis webinar is accessible to students or alumni of an AMBA-accredited programme at Audencia, i.e., Executive MBA, EuroMBA, Full-Time MBA or Master in Management (Grande Ecole Programme), but registration is required. Registering as an alum of an AMBA-accredited programme takes only a few minutes.\nThis event is free for AMBA members to attend but registration is required using the link above.
BEGIN:VALARM
ACTION:DISPLAY
TRIGGER:-PT60M
DESCRIPTION:Webinar: Developing and maintaining professional competencies for Business School graduates
END:VALARM
END:VEVENT
END:VCALENDAR