BEGIN:VCALENDAR
VERSION:2.0
X-WR-TIMEZONE:Europe/Paris
PRODID:-//Audencia//NONSGML v1.0//EN
CALSCALE:GREGORIAN
BEGIN:VEVENT
SUMMARY:Conférence / Rôle de l'administrateur indépendant et entreprise familiale
DTSTART:20210615T170000
DTEND:20210615T180000
UID:1003
DTSTAMP:20260425T205901
LOCATION:
DESCRIPTION:\nAPIA (Administrateurs Professionnels Indépendants Associés) et Audencia Business School vous propose un cycle de conférences AAGIR « Apia & Audencia pour une Gouvernance Innovante et Responsable ». L’objectif de ce cycle de conférences est de vous apporter des réponses opérationnelles et de challenger vos pratiques de gouvernance.\n\n \n\nLa 4ème conférence aura lieu le mardi 15 juin 2021 à 17h00 et aura pour thématique « Rôle de l'administrateur indépendant dans une entreprise familiale ».\n\nY'a t'il une spécificité de gouvernance dans les entreprises familiales et une valeur ajoutée de la présence d'un administrateur indépendant ?\n \n\nINSCRIPTION > \n\n\nYves BROCHARD, Président APIA Grand Ouest, introduira la conférence qui sera co-animée par Philbert CORBREJAUD, membre APIA et Président du CEDEF (Cercle des Enfants Dirigeants d'Entreprises Familiales). \nAvec: \n\n• Miruna RADU-LEFEBVRE, Professeur titulaire de la Chaire Entrepreneuriat Familial et Société d'Audencia\n\n• Daniel ROBIN, Président du conseil de surveillance du groupe HERIGE, Ancien président du MEDEF Vendée et du Réseau Entreprendre Vendée\n\n• Jean-Michel HAYE, Gérant de B3B Immobilier, ancien Directeur Général de la LAFARGE ciment et administrateur indépendant chez HERIGE\n\n• Joseph GRIMAUD, Président du conseil de surveillance du Groupe GRIMAUD et administrateur indépendant dans d'autres sociétés\n\nAu vu des conditions sanitaires actuelles, nous vous proposions de suivre la conférence sur notre campus (jauge maximale de 50 places) ou en ligne.\n\nLe lien de connexion vous sera envoyé la veille de l'événement.
BEGIN:VALARM
ACTION:DISPLAY
TRIGGER:-PT60M
DESCRIPTION:Conférence / Rôle de l'administrateur indépendant et entreprise familiale
END:VALARM
END:VEVENT
END:VCALENDAR