BEGIN:VCALENDAR
VERSION:2.0
X-WR-TIMEZONE:Europe/Paris
PRODID:-//Audencia//NONSGML v1.0//EN
CALSCALE:GREGORIAN
BEGIN:VEVENT
SUMMARY:#MBALeadershipSeries - Webinar #4
DTSTART:20210614T130000
DTEND:20210614T140000
UID:1002
DTSTAMP:20260425T205823
LOCATION:
DESCRIPTION:\nLa Chaire Performance Globale Multi-Capitaux vous invite à rejoindre son 4e webinaire de la #MBALeadershipSeries, lundi 14 juin, à 13h00 et en ligne (session en anglais). \n\nNous aurons le plaisir d'accueillir Thomas Breuzard, directeur Permaentreprise chez Norsys, société a  mission pour discuter des modèles d'entreprise en permaculture. \n\nAu programme : \n\nLe modèle de la permaentreprise est basé sur 3 principes éthiques indissociables. Ils ont pour objectif d'aider l'entreprise à renforcer son engagemnt pour le bien commun, à travers son activité. Pour l'atteindre, la permaentreprise recherche :\n\n\n	Une production efficace\n	Utile aux êtres humains\n	Sans nuire à la Terre, grâce à une utilisation sobre des ressources.\n\n\nUn des 3 principes éthiques est dédié à déterminer les limites de ce que l'entreprise est prête à faire pour réussir dans son activité, ainsi qu'à redistribuer les restes (argent, infrastructures, compétences humaines...). Une nouvelle façon d'envisager le rôle de la performance économique comme moteur de changement positif !\n \n\nDelphine Gibassier, directrice académique, présentera également le programme Executive MBA Chief Value Officer.  \n\nUne session de questions-réponses entre le public et les intervenants est prévue dans le cadre de ce webinaire interactif.\n \n\nINSCRIPTION >\n\n\nAprès 10 ans passés dans différentes sociétés de conseil en RSE, Thomas Breuzard a rejoint Norsys en 2017 pour déployer de nouveaux modèles économiques, tels que les sociétés à but lucratif (entreprise à mission). Norsys est aujourd'hui reconnue en RSE, l'un des plus gros Bcorps en France, elle est qualifiée de société à mission... Et se projette dans l'avenir avec la création d'un nouveau modèle maison : la permaentreprise. Il est en charge du déploiement opérationnel de ce modèle chez norsys, ainsi que de la gestion de sa stratégie environnementale. 
BEGIN:VALARM
ACTION:DISPLAY
TRIGGER:-PT60M
DESCRIPTION:#MBALeadershipSeries - Webinar #4
END:VALARM
END:VEVENT
END:VCALENDAR