BEGIN:VCALENDAR
VERSION:2.0
X-WR-TIMEZONE:Europe/Paris
PRODID:-//Audencia//NONSGML v1.0//EN
CALSCALE:GREGORIAN
BEGIN:VEVENT
SUMMARY:French Returnees & Francophone Alumni Soirée
DTSTART:20210605T133000
DTEND:20210605T180000
UID:1000
DTSTAMP:20260425T210210
LOCATION:1F, Cachet Boutique Shanghai, 931 West Nanjing Road, Shanghai, China
DESCRIPTION:Dear Alumni, \n\nYou are cordially invited to "La French Vogue" French Returnees & Francophone Soirée from 7:30 pm on Saturday, June 5th at Forté, Shanghai, organised by Julia's Events. \n\nLast year, almost 400 guests from various top French schools gathered together and had a blast. This year, you could expect another fantastic networking soirée with the French cultural circle and crowds. \n\nAt this unique event, you will have the chance to meet and mingle with alumni friends or local francophones, extend your network, and build valuable connections. Ice-breakers, Lucky Draw, name tags will be provided to ease the networking. \n\nThere is also a special late-night party (entry after 10:30 pm), featuring French singer live shows, Saxophone Performances, and guest French DJ live music. \n\nLilian Sausset is a French bartender who worked at many well-renowned bars across the world. Creating a cocktail to him is “more than mixing the ingredients; it is an art and innovation.” \n\nThe bar will turn into a gorgeous stage, and take you through to the authentic French night. A professional event photographer will be there to capture the highlight of the night! \n\nWith the decorations and atmosphere, immerse yourself in the French lifestyle, and experience the modern and chic evening with everyone around you! \n \nDATE & TIME: 7:30pm - late, Saturday, June 5\n\nDRESS CODE: Smart / Elegant / French Chic\n\nTo register, please contact Katherine, our alumni ambassador in Shanghai: \n\nk_shanghaitower (WeChat)\n\n\n\nPLACES ARE LIMITED. First come, first served. \n\n\n\n\n\n 
BEGIN:VALARM
ACTION:DISPLAY
TRIGGER:-PT60M
DESCRIPTION:French Returnees & Francophone Alumni Soirée
END:VALARM
END:VEVENT
END:VCALENDAR