BEGIN:VCALENDAR
VERSION:2.0
X-WR-TIMEZONE:Europe/Paris
PRODID:-//Audencia//NONSGML v1.0//EN
CALSCALE:GREGORIAN
BEGIN:VEVENT
SUMMARY:Hurricane relief fundraiser event in New York, USA
DTSTART:20171011T183000
DTEND:20171011T203000
UID:100
DTSTAMP:20260425T205817
LOCATION:Consulat général de France 934 Fifth Avenue New York, 10021
DESCRIPTION:To support relief efforts for the recent hurricane victims, Ms. Anne-Claire Legendre, Consul General of France cordially invites you to a fundraiser event with food, wine and music at the Consulate General of France.\n\nAll proceeds will be donated to the “Fondation de France” programme to support those affected by hurricanes that hit the Caribbean islands.\n \n\nTo get your $50 ticket for the event\n(all proceeds donated to the Fondation de France)\nPlease register here\n\n\nThis will also be the occasion for the French American Yacht Club (FAYC) to give the $5000 they raised to a fund of the Fondation de France dedicated to the victims of hurricanes Irma and Maria in the Caribbean. The cheque will be presented during the evening.\n\n\n 
BEGIN:VALARM
ACTION:DISPLAY
TRIGGER:-PT60M
DESCRIPTION:Hurricane relief fundraiser event in New York, USA
END:VALARM
END:VEVENT
END:VCALENDAR