BEGIN:VCALENDAR
VERSION:2.0
X-WR-TIMEZONE:Europe/Paris
PRODID:-//Audencia//NONSGML v1.0//EN
CALSCALE:GREGORIAN
BEGIN:VEVENT
SUMMARY:Networking in Indore, India
DTSTART:20170309T120000
DTEND:20170309T160000
UID:10
DTSTAMP:20260425T205727
LOCATION:Indian Institute of Management Indore Prabandh Shikhar, Pithampur Rd, Indore, Madhya Pradesh 453556, India
DESCRIPTION:AMBA, the Association of MBAs, is organising a networking event.\n\nJoin them in Indore, India on 9 March 2017 between 12.00 and 16.00 for an afternoon of networking and relationship-building with students and alumni of AMBA-accredited programmes.\nBook your free place today >>\n\nLocation: Indian Institute of Management Indore\nDate: 09 March 2017\nTime: 12.00 to 16.00\n\nAddress: Prabandh Shikhar\nPithampur Rd, Indore\nMadhya Pradesh\n453556, India\n\nThis event is aimed at alumni of AMBA-accredited programmes. At Audencia, these programmes are: Executive MBA, MBA in Responsible Management and Master in Management (Grande Ecole Programme). The event is free for AMBA members but registration is required. Registering as an alumus/alumna of an AMBA-accredited programme takes only a few minutes.\nGo to www.mbaworld.com/communitysignup \n\n\n	complete your personal details\n	select ‘Graduate’ from the ‘I am a’ drop down\n	select your Business School\n	enter the following access key: G25912\n\n\nOnce you have registered as an AMBA alum, you can register for the event.\n\nIf you have any questions about registering, please contact the AMBA Membership Team who will be happy to help.\n 
BEGIN:VALARM
ACTION:DISPLAY
TRIGGER:-PT60M
DESCRIPTION:Networking in Indore, India
END:VALARM
END:VEVENT
END:VCALENDAR