BEGIN:VCALENDAR
VERSION:2.0
X-WR-TIMEZONE:Europe/Paris
PRODID:-//Audencia//NONSGML v1.0//EN
CALSCALE:GREGORIAN
BEGIN:VEVENT
SUMMARY:Webinar: How portfolio careers work
DTSTART:20170208T193000
DTEND:20170208T204500
UID:1
DTSTAMP:20260425T205718
LOCATION:Online
DESCRIPTION:The idea of combining several roles into a "portfolio" career is an attractive one for many people especially for those who need flexibility. Creating a sustainable portfolio of work can be extremely challenging.\n\nThis panel webinar featuring Patrick J McGinnis, Larissa Baeuml and Katja Berlinger examines the reality of portfolio work and looks especially at how would-be portfolio workers can generate opportunities and allocate their time most effectively.\n\nIn this webinar we will examine the different approaches our panellists have followed to create, maintain and enrich portfolio careers in areas as diverse as board/NED roles, entrepreneurship and online gaming.\n\nWe will explore:\n\n\n	Why traditional job-hunting techniques (and almost all networking) won’t help\n	Why a “strange CV” combined with a distinctive skill can be ideal\n	What resources you need to start and how long you may have to wait to “break even”.\n	How to “upgrade” clients and projects over time to focus on work that is the most rewarding and fulfilling.\n	Five models of entrepreneurship that you can fit into a portfolio\n\n\nEveryone who registers will get the chance to ask our panel questions live, plus a video recording of the session and access to a bonus materials resource pack.A private LinkedIn group for potential portfolio workers has been created and is linked to this webinar. All attendees will be invited to join the group and discuss issues around this subject before and after the webinar.\n \n\nPlease register here to attend this webinar\n\n\nAll attendees will receive the meeting slides, a recording and a resource pack.
BEGIN:VALARM
ACTION:DISPLAY
TRIGGER:-PT60M
DESCRIPTION:Webinar: How portfolio careers work
END:VALARM
END:VEVENT
END:VCALENDAR