BEGIN:VCALENDAR
VERSION:2.0
X-WR-TIMEZONE:Europe/Paris
PRODID:-//Audencia//NONSGML v1.0//EN
CALSCALE:GREGORIAN
BEGIN:VEVENT
SUMMARY:Afterwork à L'UNIVERRE le 23 janvier 2018 entre Audenciens Bordelais !!!!
DTSTART:20180123T193000
DTEND:20180123T230000
UID:99
DTSTAMP:20260425T205859
LOCATION:L'UNIVERRE
DESCRIPTION:Bonjour à tous, \n\nNous organisons un afterwork à L'Univerre le 23 janvier 2018 à partir de 19h30 pour se retrouver entre Audenciens autour de quelques verres de vin et planches !\n\nOn vous attend nombreux !\nA vos inscriptions  !\nBonnes fêtes d'ici la !\n\nElise (06 30 63 50 27)\n\n-----------\n>>> Détails pratiques\nLieu : L'Univerre -> http://www.univerre-restaurant.com/univerre-cave.html\nAdresse : 40 rue Lecocq, 33000 Bordeaux - A proximité de Meriadeck \nPrix : 20 euros (2 verres de vin et quelques planches) -  A régler en arrivant\n\n \n 
BEGIN:VALARM
ACTION:DISPLAY
TRIGGER:-PT60M
DESCRIPTION:Afterwork à L'UNIVERRE le 23 janvier 2018 entre Audenciens Bordelais !!!!
END:VALARM
END:VEVENT
END:VCALENDAR