BEGIN:VCALENDAR
VERSION:2.0
X-WR-TIMEZONE:Europe/Paris
PRODID:-//Audencia//NONSGML v1.0//EN
CALSCALE:GREGORIAN
BEGIN:VEVENT
SUMMARY:Audencia Tech - Afterwork d'hiver
DTSTART:20180116T193000
DTEND:20180116T233000
UID:98
DTSTAMP:20260425T205703
LOCATION:Gossip Café - 16 Rue des Lombards, 75004 Paris
DESCRIPTION:Chers diplômés et étudiants,\n\nVous travaillez dans le domaine du numérique ou êtes intéressé par la thématique? Que vous soyez un simple utilisateur ou un expert des dernières technologies de pointe, rejoignez-nous le 16 janvier à 19H30.\n\nNous vous donnons rendez-vous au Gossip Café au 16 Rue des Lombards, 75004 Paris\n \n\nNous vous attendons nombreux.\n Jonathan Trevier (GE 2013)\n Sébastien Lamour (GE 1998)\n Rémy Darcel (GE 2010)
BEGIN:VALARM
ACTION:DISPLAY
TRIGGER:-PT60M
DESCRIPTION:Audencia Tech - Afterwork d'hiver
END:VALARM
END:VEVENT
END:VCALENDAR