BEGIN:VCALENDAR
VERSION:2.0
X-WR-TIMEZONE:Europe/Paris
PRODID:-//Audencia//NONSGML v1.0//EN
CALSCALE:GREGORIAN
BEGIN:VEVENT
SUMMARY:Run Eco & Afterwork Audencia
DTSTART:20171219T190000
DTEND:20171219T220000
UID:97
DTSTAMP:20260425T223651
LOCATION:Bar le Max - 6, rue de la Petite Truanderie
DESCRIPTION:Vous les avez attendus ? Les Run Audencia reprennent pour clore l’année en beauté durant ce Run de Noël ! Et cette année, il y a une nouveauté : l’association avec nos copains de Run Eco Team, pour un run toujours plus responsable :)\n\nLe RDV ? Mardi 19 décembre à 19h00 au bar le MAX (Châtelet). Le Run fera entre 8 et 10km sur les quais de Seine, avec possibilités de courir à allures différentes, pour le plaisir de tous !\nEt après, on se retrouve tous au bar pour un petit verre bien mérité. Si des non (pas encore) runners veulent se joindre à nous c’est également possible à partir de 20h15.\n\nPlus d’excuse, il y en a pour tous les goûts, alors, anciens, nouveaux, MOS ou pas, Audencia ou amis d’Audencia, vous serez les bienvenus ! \n\nPS : Vous pouvez laisser vos affaires dans une pièce du bar pendant le Run.\n#RunAudencia #RunTogether #AudenciaParis
BEGIN:VALARM
ACTION:DISPLAY
TRIGGER:-PT60M
DESCRIPTION:Run Eco & Afterwork Audencia
END:VALARM
END:VEVENT
END:VCALENDAR