BEGIN:VCALENDAR
VERSION:2.0
X-WR-TIMEZONE:Europe/Paris
PRODID:-//Audencia//NONSGML v1.0//EN
CALSCALE:GREGORIAN
BEGIN:VEVENT
SUMMARY:Borrel de lancement du chapter Pays-Bas le 18 janvier à Amsterdam
DTSTART:20180118T190000
DTEND:20180118T230000
UID:96
DTSTAMP:20260425T205724
LOCATION:Cafe de Jaren Nieuwe Doelenstraat 20, 1012 CP Amsterdam, Pays-Bas
DESCRIPTION:Goeie dag allemaal,\nRetrouvons-nous le 18 janvier pour nous rencontrer et échanger autour d'un verre.\nRDV à 19h au Cafe de Jaren\nNieuwe Doelenstraat 20, 1012 CP Amsterdam, Pays-Bas\nTot ziens!
BEGIN:VALARM
ACTION:DISPLAY
TRIGGER:-PT60M
DESCRIPTION:Borrel de lancement du chapter Pays-Bas le 18 janvier à Amsterdam
END:VALARM
END:VEVENT
END:VCALENDAR