BEGIN:VCALENDAR
VERSION:2.0
X-WR-TIMEZONE:Europe/Paris
PRODID:-//Audencia//NONSGML v1.0//EN
CALSCALE:GREGORIAN
BEGIN:VEVENT
SUMMARY:3ème soirée inter-Grandes Écoles : "Boirons-nous encore du vin en 2050 ?"
DTSTART:20180329T183000
DTEND:20180329T233000
UID:94
DTSTAMP:20260425T205730
LOCATION:Grand Amphi KEDGE BS - 680 Cours de la Libération, 33400 Talence
DESCRIPTION:\nINSCRIVEZ-VOUS EN CLIQUANT ICI\nAVANT LE 20 MARS\n \n\nForts du succès rencontré lors des deux premières éditions de l'événement qui a réuni les diplômés des réseaux d'alumni d'AUDENCIA Business School, EDHEC, EM Lyon, ESCP, ESSEC, HEC, NEOMA et KEDGE Business School, nous vous convions à la 3ème soirée alumni inter-Grandes Ecoles, dans les locaux de Kedge Business School à Talence le jeudi 29 mars à partir de 18h30.\n \n\nUne occasion unique de favoriser les échanges et d'élargir votre Réseau !\n \n\n\n\n \n\nDébat sur le thème : "Boirons nous encore du vin en 2050 ?"\n\nLe vin, ce nectar millénaire qui a conquis les continents et les civilisations sera-t-il encore dans nos verres en 2050 ? Il a traversé les âges, les religions, les empires, mais dans ce nouveau monde imprévisible, disruptif et soumis à un défi climatique d’une ampleur sans précédent, le vin survivra-t-il ?\n\nEt si oui sous quelle forme ? De quelles latitudes proviendra-t-il ? Avec quel goût ?  Produit par quels cépages ? Avec quels nouveau rites, culture et mets pour l’accompagner ? Qui profitera de ce nouveau business ? Allons-nous vers une recomposition de la filière ? Ou sa décomposition ?\n\nRetrouvez nos experts qui décrypteront, analyseront et passeront le sujet au crible autour d'Estelle GENTILLEAU, journaliste :\n\n\n	Sylvie CAZES, Présidente de la Fondation pour la Culture et les civilisations du Vin et Diplômée de HEC\n	Jacques Olivier PESME, Directeur de la Wine and Spirits Academy et Diplômé de KEDGE BS.\n	Thierry BLANDINIERES, Directeur Général d'IN VIVO et Diplômé d'AUDENCIA BS\n	Axel MARCHAL, Enseignant-chercheur et consultant en œnologie\n\n\n \n\nAu programme de la soirée :\n\n18h30 : Accueil\n19h00 : Débat avec les experts\n20h00 : Cocktail, moment convivial pour échanger entre participants \n \n\nINSCRIPTION OBLIGATOIRE\nTarif unique 25€\n\n\n\n 
BEGIN:VALARM
ACTION:DISPLAY
TRIGGER:-PT60M
DESCRIPTION:3ème soirée inter-Grandes Écoles : "Boirons-nous encore du vin en 2050 ?"
END:VALARM
END:VEVENT
END:VCALENDAR