BEGIN:VCALENDAR
VERSION:2.0
X-WR-TIMEZONE:Europe/Paris
PRODID:-//Audencia//NONSGML v1.0//EN
CALSCALE:GREGORIAN
BEGIN:VEVENT
SUMMARY:Diffusion en direct du spectacle vivant au cinéma et sur les plateformes numériques au service des salles .... ou pas ?
DTSTART:20171129T190000
DTEND:20171129T210000
UID:93
DTSTAMP:20260425T205815
LOCATION:Paris - Fondation d'entreprise Ricard, 12, rue Boissy d'Anglas, 75008
DESCRIPTION:Evénement payant Culture & Management, inscription sur ce lien ===>https://www.culture-et-management.com/debats/diffusion_en_direct_du_spectacle_vivant_au_cinema_et_sur_les_plateformes_numeriques_au_service_des_salles_ou_pas.html\n\n--- Description ---\nAprès le développement de la diffusion du spectacle vivant au cinéma, nous assistons désormais à l'essor de la diffusion en direct sur les plateformes numériques : site internet des Institutions, Facebook live, chaînes web etc...\n\nEst-ce une opportunité ou une menace pour le développement des publics ? Le spectacle est-il toujours "vivant" sur écran ? Est-ce un enjeu culturel de démocratisation ou un enjeu de communication pour ne pas rater le virage numérique ?\n\n\nIntervenants\n\n- Elodie Cans, Responsable des réseaux sociaux à l'Opéra national de Paris\n- Thierry Fontaine, Président de Pathé Live\n- Christophe Tardieu, Directeur du CNC, Centre national du cinéma et de l'image animée\n\nModérateurs\n\nClémence DARDE / Responsable spectacle vivant C&M
BEGIN:VALARM
ACTION:DISPLAY
TRIGGER:-PT60M
DESCRIPTION:Diffusion en direct du spectacle vivant au cinéma et sur les plateformes numériques au service des salles .... ou pas ?
END:VALARM
END:VEVENT
END:VCALENDAR