BEGIN:VCALENDAR
VERSION:2.0
X-WR-TIMEZONE:Europe/Paris
PRODID:-//Audencia//NONSGML v1.0//EN
CALSCALE:GREGORIAN
BEGIN:VEVENT
SUMMARY:Conférence "Research and Business in Sport : Qu’est-ce que la recherche peut apporter au sport?
DTSTART:20171124T093000
DTEND:20171124T183000
UID:92
DTSTAMP:20260425T205704
LOCATION:Audencia Campus Paris 95, rue Falguière 75010 Paris
DESCRIPTION: \n\nInscriptions à l'évènement prises en compte sur Eventbrite ici : http://bit.ly/2x1ko8x\n\nL’objectif de cette conférence est de rapprocher le monde de la recherche et celui des managers dans le secteur sportif. Nous nous adressons autant aux enseignants-chercheurs, doctorants et étudiants dans les UFR STAPS et les écoles de commerce qu’aux professionnels des métiers du management du sport. Aujourd’hui il existe une déconnexion entre le savoir produit par les chercheurs et les pratiques effectives des professionnels du management sportif. Pourtant, de beaux exemples existent où la recherche a eu un impact direct sur le terrain ou où le terrain a su susciter des sujets de recherche pertinents aboutissant à de bonnes pratiques. Nous souhaitons mettre en lumière ces exemples et évoquer les défis, les attentes et les bonnes pratiques des deux univers, afin d’inviter à une meilleure collaboration entre le monde de la recherche et celui du management du sport. \n\nNous invitons chercheurs, doctorants, étudiants et managers à proposer des témoignages de projets qui montrent des initiatives de création de ponts entre recherche et pratique dans le domaine du management du sport. Ces exemples peuvent être des succès, des échecs mais aussi des projets à l’étude ou en cours.\n\n \n\n 
BEGIN:VALARM
ACTION:DISPLAY
TRIGGER:-PT60M
DESCRIPTION:Conférence "Research and Business in Sport : Qu’est-ce que la recherche peut apporter au sport?
END:VALARM
END:VEVENT
END:VCALENDAR