BEGIN:VCALENDAR
VERSION:2.0
X-WR-TIMEZONE:Europe/Paris
PRODID:-//Audencia//NONSGML v1.0//EN
CALSCALE:GREGORIAN
BEGIN:VEVENT
SUMMARY:Afterwork à Geneve, jeudi 30 novembre dès 18h30, brasserie Da Matteo
DTSTART:20171130T183000
DTEND:20171130T220000
UID:91
DTSTAMP:20260425T223706
LOCATION:Brasserie Da Matteo 50 rue du Stand 1204 Geneve  http://www.brasseriedamatteo.com/
DESCRIPTION:Afterwork à Geneve, jeudi 30 novembre dès 18h30, brasserie Da Matteo\nBientôt les Christmas parties ! Nous vous proposons un Afterwork sympa, dans un lieu dingue :\nBrasserie Da Matteo 50 Rue du Stand, 1204 Genève.  \nBeaucoup de choses à annoncer, à discuter, à trouver... avec vous les Alumni et avec vos amis si vous voulez les inviter !\nNous serons ravis de vous retrouver pour ce networking.\nInscrivez-vous , nous réservons un espace à nous en conséquence.\nA bientot !\nhttp://www.brasseriedamatteo.com/
BEGIN:VALARM
ACTION:DISPLAY
TRIGGER:-PT60M
DESCRIPTION:Afterwork à Geneve, jeudi 30 novembre dès 18h30, brasserie Da Matteo
END:VALARM
END:VEVENT
END:VCALENDAR