BEGIN:VCALENDAR
VERSION:2.0
X-WR-TIMEZONE:Europe/Paris
PRODID:-//Audencia//NONSGML v1.0//EN
CALSCALE:GREGORIAN
BEGIN:VEVENT
SUMMARY:Last minute... déjeuner avec Olivier Delamarche (Chroniqueur à BFM) 9/11/17
DTSTART:20171109T120000
DTEND:20171109T140000
UID:90
DTSTAMP:20260425T205704
LOCATION:Le restaurant La Mère Royaume, 4, place Simon Goulart, 1201 Genève
DESCRIPTION:Last minute... déjeuner avec Olivier Delamarche (Chroniqueur à BFM) 9/11/17\n\nStephane DERAMAUX (Audencia) et L’ESTP propose de participer à un déjeuner avec Olivier Delamarche (le Chroniqueur fou de BFM).\n\nC’est le jeudi 9 novembre à 12h00 à coté de Cornavin / Manor (donc super centre).\n\nhttps://www.sidetp.org/agenda/217?langue=fr\n\nPour les inscriptions, il faut payer sur place pour le déjeuner (50 CHF) et s’inscrire par mail auprès de : stephane.deramaux@gmail.com avant vendredi 3 novembre .\n\nNombre de place limité à 50 au total maximum … il doit en rester une dizaine à peine …\n\n 
BEGIN:VALARM
ACTION:DISPLAY
TRIGGER:-PT60M
DESCRIPTION:Last minute... déjeuner avec Olivier Delamarche (Chroniqueur à BFM) 9/11/17
END:VALARM
END:VEVENT
END:VCALENDAR