BEGIN:VCALENDAR
VERSION:2.0
X-WR-TIMEZONE:Europe/Paris
PRODID:-//Audencia//NONSGML v1.0//EN
CALSCALE:GREGORIAN
BEGIN:VEVENT
SUMMARY:Shanghai Afterwork #4
DTSTART:20171108T080000
DTEND:20171108T220000
UID:89
DTSTAMP:20260425T223707
LOCATION:Cages Bar & Sports no. 428 Jiangning Road, Jing'an Sports Center, 3/F (Near Wuding Road)
DESCRIPTION:Hi everyone, the next gathering will take place on Wednesday 8th Nov.\nCome for a drink, meet new people and have fun!\n\nCages offer a variety of sports on site such as baseball, squash, billard, darts and even petanque ! \nHope to see you there!\nhttp://www.cages.cn/\n\nCheers,\nEugenia
BEGIN:VALARM
ACTION:DISPLAY
TRIGGER:-PT60M
DESCRIPTION:Shanghai Afterwork #4
END:VALARM
END:VEVENT
END:VCALENDAR