BEGIN:VCALENDAR
VERSION:2.0
X-WR-TIMEZONE:Europe/Paris
PRODID:-//Audencia//NONSGML v1.0//EN
CALSCALE:GREGORIAN
BEGIN:VEVENT
SUMMARY:Audencia Alumni Beijing - 3rd Afterwork
DTSTART:20171026T193000
DTEND:20171026T233000
UID:88
DTSTAMP:20260425T205818
LOCATION:Qmex Bar&Grill, Sanlitun
DESCRIPTION:1. Theme colour: Light/dark blue\n2. Please bring 1 object which reminds you of old days in Audencia! :D \n\nFor more up-to-date information, please add wechat: 18618173336 by mentioning "Audencia Alumni Beijing", you will be added to Audencia Alumni Beijing Wechat Group afterwards. \n\nLooking forward to hearing from you! 
BEGIN:VALARM
ACTION:DISPLAY
TRIGGER:-PT60M
DESCRIPTION:Audencia Alumni Beijing - 3rd Afterwork
END:VALARM
END:VEVENT
END:VCALENDAR