BEGIN:VCALENDAR
VERSION:2.0
X-WR-TIMEZONE:Europe/Paris
PRODID:-//Audencia//NONSGML v1.0//EN
CALSCALE:GREGORIAN
BEGIN:VEVENT
SUMMARY:chapter Lyon - soirée Alumni - 12 décembre (soirée libre vins - tapas)
DTSTART:20171212T200000
DTEND:20171212T233000
UID:87
DTSTAMP:20260425T223814
LOCATION:bar La Goutte - 3 Place d'Albon, 69001 Lyon
DESCRIPTION:Chers tous,\nRevoici nos aventures, dans un nouveau cadre, plus classe et peut-être davantage approprié au regard de vos derniers retours.\nRdv donc le 12 décembre à 20h au bar à vin et tapas : La Goutte, dans le 1er ardt.\nSoirée libre dans l'organisation, à base de vins et tapas !\nJ'espère vous y voir nombreux, jeunes et moins jeunes, pour renouer avec nos afterworks !\nPaul, GE2009
BEGIN:VALARM
ACTION:DISPLAY
TRIGGER:-PT60M
DESCRIPTION:chapter Lyon - soirée Alumni - 12 décembre (soirée libre vins - tapas)
END:VALARM
END:VEVENT
END:VCALENDAR