BEGIN:VCALENDAR
VERSION:2.0
X-WR-TIMEZONE:Europe/Paris
PRODID:-//Audencia//NONSGML v1.0//EN
CALSCALE:GREGORIAN
BEGIN:VEVENT
SUMMARY:Lille - Afterwork 4
DTSTART:20171122T184500
DTEND:20171122T223000
UID:84
DTSTAMP:20260425T205725
LOCATION:La Boulangerie Bar, 28 rue des Postes 59000 LILLE dans la salle du fond
DESCRIPTION:Bonjour à tous, \n\n4ème Afterwork des Alumni du Nord : rendez-vous mercredi 22 novembre 2017, à partir de 18h45, pour se réunir autour d'un verre et échanger nos expériences de diplômés ou étudiants d'Audencia.\n\nLe lieu : La Boulangerie Bar, 28 rue des Postes 59000 LILLE\nJ'ai réservé une table, dans la salle du fond, qui devrait être identifiée "Afterwork Chapter Lille"\nC'est à proximité du théâtre Sébastopol (où il y a un parking) et à quelques minites à pied de la station métro République.\n\nAllez, venez ! Et passez le mot aux Alumni de votre entourage.   \n\nSi l'horaire de début est un peu trop tôt pour vous, ce n'est pas un souci, venez dès que vous pouvez. Pensez simplement à me dire votre heure d'arrivée probable pour que je sache quoi ;)\n\nN'hésitez pas à venir accompagné-e-s (conjoints, amis, collègues, on accepte tout le monde !)\n\nVotre ambassadeur, Cédric Foussard\n07.62.14.75.34
BEGIN:VALARM
ACTION:DISPLAY
TRIGGER:-PT60M
DESCRIPTION:Lille - Afterwork 4
END:VALARM
END:VEVENT
END:VCALENDAR