BEGIN:VCALENDAR
VERSION:2.0
X-WR-TIMEZONE:Europe/Paris
PRODID:-//Audencia//NONSGML v1.0//EN
CALSCALE:GREGORIAN
BEGIN:VEVENT
SUMMARY:Diner au WOK à Rennes
DTSTART:20171025T200000
DTEND:20171025T230000
UID:83
DTSTAMP:20260425T223736
LOCATION:Restaurant le Wok qui se situe Rue de Fougères (celui à côté du parc des Gayeulles, pas celui du centre ville)!
DESCRIPTION:Bonjour à tous,\n\nJe vous propose de nous retrouver au WOK Rue de Fougères à partir de 20h le mercredi 25 octobre!\n\nA très vite,\n\nEmmanuel
BEGIN:VALARM
ACTION:DISPLAY
TRIGGER:-PT60M
DESCRIPTION:Diner au WOK à Rennes
END:VALARM
END:VEVENT
END:VCALENDAR