BEGIN:VCALENDAR
VERSION:2.0
X-WR-TIMEZONE:Europe/Paris
PRODID:-//Audencia//NONSGML v1.0//EN
CALSCALE:GREGORIAN
BEGIN:VEVENT
SUMMARY:Conférence FI+ - LA DATA ET LE CFO 4.0 :  Collecter, Comprendre, Changer
DTSTART:20171016T190000
DTEND:20171016T210000
UID:82
DTSTAMP:20260425T223839
LOCATION:Maison des Arts et Métiers 9 bis Avenue d'Iéna 75016 Paris
DESCRIPTION:Inscription sur Together et via ce lien : https://www.arts-et-metiers.asso.fr/index.php/manif/3487. Prix : 25 Euros\n\nNous sommes au cœur d’une révolution digitale massive qui transforme la vie et les entreprises, la 4ème révolution industrielle (après celles de la vapeur, de l’électricité et de la révolution informatique).\n\nAucun domaine de l'entreprise n’échappe à la formidable transformation en cours : analyses prédictives, robotisation des processus, blockchain, RPA, big data …\n\nQuels changements le Digital est-il à même d’engendrer au sein des différentes fonctions de l'entreprise, en particulier au sein de la direction financière ? Quelles sont les contraintes et les risques ? Quels seront les profils nécessaires pour assurer efficacement les missions ? Comment accompagner ce changement ?\n\nPour cerner l'impact de cette révolution, la prochaine grande conférence de Fi+, le méta-réseau des financiers d’entreprise, en partenariat avec SAP et Grant Thornton Executive, aura pour thème :\n\nLA DATA ET LE CFO 4.0 :\n\nCollecter, Comprendre, Changer\n\nLes intervenants seront :\n\n• Karine Sirmain, Chief Finance Transformation Officer chez Engie\n\n• Diane Rivière, Senior Advisor chez Grant Thornton Executive\n\n• Jocelyn Grignon, gérant de Legal & Digital\n\n• Etienne Lebeaupin, Juriste Senior Nouvelles Technologies chez Rexel\n\n• Antonio Giannelli, Business Development Expert at EMEA Center of Excellence for Finance, SAP\n\n• Stéphane Vais, Directeur Général Adjoint de Sarenza.com\n\nPrécédés de la restitution d'une enquête faite par BearingPoint sur le sujet, les débats seront animés par Frédéric Simottel, Editorialiste High Tech BFM Business, BFMTV\n 
BEGIN:VALARM
ACTION:DISPLAY
TRIGGER:-PT60M
DESCRIPTION:Conférence FI+ - LA DATA ET LE CFO 4.0 :  Collecter, Comprendre, Changer
END:VALARM
END:VEVENT
END:VCALENDAR