BEGIN:VCALENDAR
VERSION:2.0
X-WR-TIMEZONE:Europe/Paris
PRODID:-//Audencia//NONSGML v1.0//EN
CALSCALE:GREGORIAN
BEGIN:VEVENT
SUMMARY:Table ronde " Sport et digital, des relations de plus en plus étroites"
DTSTART:20171024T173000
DTEND:20171024T203000
UID:81
DTSTAMP:20260425T205847
LOCATION:Amphi d'Audencia Business School - Campus Paris  95, rue Falguière 75015 PARIS
DESCRIPTION:Table ronde : « Sport et digital, des relations de plus en plus étroites ».\n\n8 places ouvertes aux 8 premiers inscrits\n\nIntervenants :\nJulien CHAPOY, journaliste/ commentateur/ consultant sportif, auto-entrepreneur\nJulien JALOUZET, Digital Playas, ancien directeur du service marketing digital du PSG\nVincent PEREIRA, Entrepreneur, ancien de La Fourmi et So Live\n\nModérateur : les étudiants de l’atelier « Table ronde » avec Anna Gerke, Audencia Business School, Responsable du Mastère Spécialisé en Management des Organisations de Sport\n\nParticipants : étudiants du Mastère Spécialisé en Management des Organisations de Sport (MOS) d’Audencia Business School et du Mastère Spécialisé en Business Développement + 8 places pour des diplômés du MOS\n 
BEGIN:VALARM
ACTION:DISPLAY
TRIGGER:-PT60M
DESCRIPTION:Table ronde " Sport et digital, des relations de plus en plus étroites"
END:VALARM
END:VEVENT
END:VCALENDAR