BEGIN:VCALENDAR
VERSION:2.0
X-WR-TIMEZONE:Europe/Paris
PRODID:-//Audencia//NONSGML v1.0//EN
CALSCALE:GREGORIAN
BEGIN:VEVENT
SUMMARY:Afterwork de mai à Nantes
DTSTART:20170518T193000
DTEND:20170518T213000
UID:8
DTSTAMP:20260425T223706
LOCATION:le Bé2M, 32bis Rue Fouré, 44000 Nantes
DESCRIPTION:Le Chapter Nantes a le plaisir de vous proposer un nouvel afterwork le 18 mai 2017 dès 19h30 !\n \nProfitez de cette soirée pour networker autour d'un verre, partager vos expériences et projets, échanger avec les diplômés investis dans l'animation du Réseau Nantais et découvrir peut-être un nouvel endroit pour vos futures sorties ... \n\nCette fois-ci, c'est le Bé2M https://www.be2m.eu qui nous accueillera, avec un espace dédié. Signalez à votre arrivée votre appartenance à Audencia Alumini.\n\nAu plaisir de vous y retrouver nombreux !\n \nInscription recommandée pour des raisons d'organisation\n 
BEGIN:VALARM
ACTION:DISPLAY
TRIGGER:-PT60M
DESCRIPTION:Afterwork de mai à Nantes
END:VALARM
END:VEVENT
END:VCALENDAR