BEGIN:VCALENDAR
VERSION:2.0
X-WR-TIMEZONE:Europe/Paris
PRODID:-//Audencia//NONSGML v1.0//EN
CALSCALE:GREGORIAN
BEGIN:VEVENT
SUMMARY:Audencia London Café-Concert
DTSTART:20171020T174500
DTEND:20171020T220000
UID:79
DTSTAMP:20260425T223813
LOCATION:KAFE 1788  4 Vesey Path E14 6BT London
DESCRIPTION:Audencia Alumni in London,\n\nWhat about meeting up for a very cool Café-Concert in the heart of East London?\n \nCome and Enjoy some Haitian Food and listen to talented Jazz musicians at Kafe 1788 in Poplar on Friday 20 October 2017 from 17:30.\n\nLink to Audencia's admission tickets: https://billetto.co.uk/e/manje-lakay-haitian-monthly-food-pop-up-tickets-220844\n\nLooking to see many of you there!\n\nAmicalement vôtre,\nTristan Pelloux
BEGIN:VALARM
ACTION:DISPLAY
TRIGGER:-PT60M
DESCRIPTION:Audencia London Café-Concert
END:VALARM
END:VEVENT
END:VCALENDAR