BEGIN:VCALENDAR
VERSION:2.0
X-WR-TIMEZONE:Europe/Paris
PRODID:-//Audencia//NONSGML v1.0//EN
CALSCALE:GREGORIAN
BEGIN:VEVENT
SUMMARY:Afterwork Audencia London with André Sobczak & Anne Méner
DTSTART:20171016T183000
DTEND:20171016T210000
UID:78
DTSTAMP:20260425T205715
LOCATION:HOOP & TOY 34 Thurloe Place, London, SW7 2HQ
DESCRIPTION:Audencia Alumni in London,\n\nWe have the pleasure to welcome in London André Sobczak, Audencia's Associate Dean for Faculty and Research, and Anne Méner, Audencia's Head of the Multimedia Library.\n\nWe will meet at the Hoop & Toy in South Kensington. Hoping to see many of you joining us as you will have the opportunity to get up to date with the latest news about Audencia's development as well as hear about future projects.\n\nAmicalement vôtre,\nTristan Pelloux
BEGIN:VALARM
ACTION:DISPLAY
TRIGGER:-PT60M
DESCRIPTION:Afterwork Audencia London with André Sobczak & Anne Méner
END:VALARM
END:VEVENT
END:VCALENDAR