BEGIN:VCALENDAR
VERSION:2.0
X-WR-TIMEZONE:Europe/Paris
PRODID:-//Audencia//NONSGML v1.0//EN
CALSCALE:GREGORIAN
BEGIN:VEVENT
SUMMARY:Start up, le retour gagnant de la musique et des créateurs !
DTSTART:20171011T190000
DTEND:20171011T210000
UID:77
DTSTAMP:20260425T205703
LOCATION:Paris - lieu à définir
DESCRIPTION:EVENEMENT PAYANT\nInscriptions obligatoires: https://www.culture-et-management.com/reservation/start_up_le_retour_gagnant_de_la_musique_et_des_createurs.html\n\nSi la musique a été le premier bien culturel à être numérisé, grâce à la recherche conjointe de Sony (et son emblématique fondateur Akio Morita) et Philips, les créateurs de contenus, propriétaires de catalogues historiques, se sont progressivement fait déposséder par les ingénieurs de l’informatique. Dans cette opposition voilée par les euphémismes d’usage : numérisation, accès permanent, 2.0, les technos ont peu à peu pris la main sur les créateurs. Les technos rachetant aujourd’hui les structures et les catalogues parfois centenaires, dans un nouvel ordre mondial.\n\nCeux qui assistent à nos débats depuis près de deux décennies ont pu suivre en temps réel cette mutation exponentielle. Mais aujourd’hui, un vent nouveau souffle, en particulier en France, avec l’émergence de nouveaux acteurs, rompus à la culture et à l’exercice numérique mais tournés vers la création et le service artistique. Cette nouvelle génération est en train de repenser fondamentalement le modèle et impose un nouveau comportement.\n\nC’est aussi une révolution imposée par des entrepreneurs majoritairement féminins, dans un monde traditionnellement machiste. Et si le sablier était en train de s’inverser grâce à l’innovation et ses amazones ? Parmi nos intervenants, vous aurez le plaisir de retrouver quelques unes de nos lauréates de « Start Up en scène »…\n \n\nIntervenants\n\n\n	- Laurence Le Ny, Vice Présidente Orange / Culture, Musique et Infotainement\n	- Clothild Chalot, Cofondatrice-NoMadMusic / Associée-Digital Music Solutions Lauréate du prix "startups en scène" 2017\n\n \n\nModérateurs\n\n\n	Frédéric REBET\n	le chiffre/Président, Responsable Musique c&m\n
BEGIN:VALARM
ACTION:DISPLAY
TRIGGER:-PT60M
DESCRIPTION:Start up, le retour gagnant de la musique et des créateurs !
END:VALARM
END:VEVENT
END:VCALENDAR