BEGIN:VCALENDAR
VERSION:2.0
X-WR-TIMEZONE:Europe/Paris
PRODID:-//Audencia//NONSGML v1.0//EN
CALSCALE:GREGORIAN
BEGIN:VEVENT
SUMMARY:Alumni Christmas Drinks in London
DTSTART:20171212T190000
DTEND:20171212T220000
UID:76
DTSTAMP:20260425T223707
LOCATION:Bar Kick, 127 Shoreditch High St, London E1 6JE
DESCRIPTION:Audencia Alumni & friends,\n\nBefore heading home (or not) to celebrate Christmas with our respective families (or not)... Let's rally at Bar Kick on Shoreditch High Street for some drinks and even babyfoot for the few table athletes amongst us.\n\nAmicalement vôtre,\n\nTristan Pelloux
BEGIN:VALARM
ACTION:DISPLAY
TRIGGER:-PT60M
DESCRIPTION:Alumni Christmas Drinks in London
END:VALARM
END:VEVENT
END:VCALENDAR