BEGIN:VCALENDAR
VERSION:2.0
X-WR-TIMEZONE:Europe/Paris
PRODID:-//Audencia//NONSGML v1.0//EN
CALSCALE:GREGORIAN
BEGIN:VEVENT
SUMMARY:Afterwork Global Alumni avec Le French Community Club
DTSTART:20171009T190000
DTEND:20171009T210000
UID:75
DTSTAMP:20260425T205704
LOCATION:Level 43, Four Points - Dubai
DESCRIPTION:Saisissez l'occasion unique de rencontrer, entretenir et développer vos relations professionnelles à Dubai et aux Emirats dans une ambiance conviviale et un cadre magnifique. \nTous les réseaux alumni sont invités.\nInscription obligatoire : https://www.weezevent.com/soiree-global-alumni
BEGIN:VALARM
ACTION:DISPLAY
TRIGGER:-PT60M
DESCRIPTION:Afterwork Global Alumni avec Le French Community Club
END:VALARM
END:VEVENT
END:VCALENDAR