BEGIN:VCALENDAR
VERSION:2.0
X-WR-TIMEZONE:Europe/Paris
PRODID:-//Audencia//NONSGML v1.0//EN
CALSCALE:GREGORIAN
BEGIN:VEVENT
SUMMARY:Afterwork décembre - Marché de Noël (Residenz)
DTSTART:20171214T180000
DTEND:20171214T210000
UID:74
DTSTAMP:20260425T223838
LOCATION:Marché de Noël "Residenz" près d'Odeonsplatz
DESCRIPTION:Cette fois-ci nous nous retrouverons autour d´un vin chaud pour un afterwork au marché de Noël à Residenz.\n\nPoint de RDV: devant l'entrée du marché de Noël.\n\nNe soyez pas en retard, car il ferme à 21h pile.\n\nA bientôt,\nAmandine
BEGIN:VALARM
ACTION:DISPLAY
TRIGGER:-PT60M
DESCRIPTION:Afterwork décembre - Marché de Noël (Residenz)
END:VALARM
END:VEVENT
END:VCALENDAR