BEGIN:VCALENDAR
VERSION:2.0
X-WR-TIMEZONE:Europe/Paris
PRODID:-//Audencia//NONSGML v1.0//EN
CALSCALE:GREGORIAN
BEGIN:VEVENT
SUMMARY:Afterwork Octobre - Restaurant mexicain Escobar (Ostbahnhof)
DTSTART:20171017T190000
DTEND:20171017T230000
UID:72
DTSTAMP:20260425T223705
LOCATION:Breisacher Str. 19, 81667 München http://www.escobar-muenchen.de/
DESCRIPTION:Bonjour,\n\nretrouvons-nous dans la nouvelle boulangerie de Claude Petit-Jean, "Claude et Julien" à Elsässer Strasse 25 près d'Ostbahnhof pour une visite privée des locaux, puis nous irons dans le restaurant Escobar dans une rue voisine.\n\nInscrivez-vous svp au plus vite pour que je puisse réserver le nombre de places suffisantes.\n\nRetardé? Vous pouvez également nous rejoindre au restau dès 19:30 directement.\n\nA bientôt,\nAmandine
BEGIN:VALARM
ACTION:DISPLAY
TRIGGER:-PT60M
DESCRIPTION:Afterwork Octobre - Restaurant mexicain Escobar (Ostbahnhof)
END:VALARM
END:VEVENT
END:VCALENDAR